BEGIN:VCALENDAR
VERSION:2.0
PRODID:spatie/icalendar-generator
BEGIN:VTIMEZONE
TZID:UTC
BEGIN:STANDARD
DTSTART:20250728T171357
TZOFFSETFROM:+0000
TZOFFSETTO:+0000
END:STANDARD
END:VTIMEZONE
BEGIN:VEVENT
UID:69eba4d54756a
DTSTAMP:20260424T171357Z
SUMMARY:Christbaummarkt
DTSTART:20261210T060000Z
DTEND:20261210T190000Z
END:VEVENT
END:VCALENDAR