BEGIN:VCALENDAR
VERSION:2.0
PRODID:spatie/icalendar-generator
BEGIN:VTIMEZONE
TZID:UTC
BEGIN:STANDARD
DTSTART:20250728T170245
TZOFFSETFROM:+0000
TZOFFSETTO:+0000
END:STANDARD
END:VTIMEZONE
BEGIN:VEVENT
UID:69eba235d762c
DTSTAMP:20260424T170245Z
SUMMARY:Circle of Hands - The Music of Uriah Heep
DTSTART:20260529T180000Z
DTEND:20260529T180000Z
END:VEVENT
END:VCALENDAR