BEGIN:VCALENDAR
VERSION:2.0
PRODID:spatie/icalendar-generator
BEGIN:VTIMEZONE
TZID:UTC
BEGIN:STANDARD
DTSTART:20250728T181614
TZOFFSETFROM:+0000
TZOFFSETTO:+0000
END:STANDARD
END:VTIMEZONE
BEGIN:VEVENT
UID:69ebb36e663be
DTSTAMP:20260424T181614Z
SUMMARY:Öffentliche Führung durch die NS-Ausstellung
DTSTART:20260614T140000Z
DTEND:20260614T150000Z
END:VEVENT
END:VCALENDAR