BEGIN:VCALENDAR
VERSION:2.0
PRODID:spatie/icalendar-generator
BEGIN:VTIMEZONE
TZID:UTC
BEGIN:STANDARD
DTSTART:20250728T181624
TZOFFSETFROM:+0000
TZOFFSETTO:+0000
END:STANDARD
END:VTIMEZONE
BEGIN:VEVENT
UID:69ebb37876c2a
DTSTAMP:20260424T181624Z
SUMMARY:Öffentliche Führung durch die Stadtgeschichtliche Ausstellung
DTSTART:20260614T130000Z
DTEND:20260614T140000Z
END:VEVENT
END:VCALENDAR