BEGIN:VCALENDAR
VERSION:2.0
PRODID:spatie/icalendar-generator
BEGIN:VTIMEZONE
TZID:UTC
BEGIN:STANDARD
DTSTART:20250728T181747
TZOFFSETFROM:+0000
TZOFFSETTO:+0000
END:STANDARD
END:VTIMEZONE
BEGIN:VEVENT
UID:69ebb3cbdb3e9
DTSTAMP:20260424T181747Z
SUMMARY:Zeltfestival Rhein-Neckar: IDLES
DTSTART:20260621T153000Z
DTEND:20260621T153000Z
END:VEVENT
END:VCALENDAR