BEGIN:VCALENDAR
VERSION:2.0
PRODID:spatie/icalendar-generator
BEGIN:VTIMEZONE
TZID:UTC
BEGIN:STANDARD
DTSTART:20250728T181615
TZOFFSETFROM:+0000
TZOFFSETTO:+0000
END:STANDARD
END:VTIMEZONE
BEGIN:VEVENT
UID:69ebb36f1aa5f
DTSTAMP:20260424T181615Z
SUMMARY:Drei Haselnüsse für Aschenbrödel - Der Originalfilm mit Live-Orc
 hester
DTSTART:20261221T183000Z
DTEND:20261221T183000Z
END:VEVENT
END:VCALENDAR