BEGIN:VCALENDAR
VERSION:2.0
PRODID:spatie/icalendar-generator
BEGIN:VTIMEZONE
TZID:UTC
BEGIN:STANDARD
DTSTART:20250728T181624
TZOFFSETFROM:+0000
TZOFFSETTO:+0000
END:STANDARD
END:VTIMEZONE
BEGIN:VEVENT
UID:69ebb378eea52
DTSTAMP:20260424T181624Z
SUMMARY:Neckarau spielt - Ü50 Gesellschafts- und Brettspiele-Treffen
DTSTART:20260519T150000Z
DTEND:20260519T163000Z
END:VEVENT
END:VCALENDAR