BEGIN:VCALENDAR
VERSION:2.0
PRODID:spatie/icalendar-generator
BEGIN:VTIMEZONE
TZID:UTC
BEGIN:STANDARD
DTSTART:20250728T181747
TZOFFSETFROM:+0000
TZOFFSETTO:+0000
END:STANDARD
END:VTIMEZONE
BEGIN:VEVENT
UID:69ebb3cb5853c
DTSTAMP:20260424T181747Z
SUMMARY:Neckarau spielt - Ü50 Gesellschafts- und Brettspiele-Treffen
DTSTART:20260428T150000Z
DTEND:20260428T163000Z
END:VEVENT
END:VCALENDAR