BEGIN:VCALENDAR
VERSION:2.0
PRODID:spatie/icalendar-generator
BEGIN:VTIMEZONE
TZID:UTC
BEGIN:STANDARD
DTSTART:20250728T181726
TZOFFSETFROM:+0000
TZOFFSETTO:+0000
END:STANDARD
END:VTIMEZONE
BEGIN:VEVENT
UID:69ebb3b64bcb1
DTSTAMP:20260424T181726Z
SUMMARY:Rollenspieltreff
DTSTART:20260612T160000Z
DTEND:20260612T160000Z
END:VEVENT
END:VCALENDAR