BEGIN:VCALENDAR
VERSION:2.0
PRODID:spatie/icalendar-generator
BEGIN:VTIMEZONE
TZID:UTC
BEGIN:STANDARD
DTSTART:20250728T181625
TZOFFSETFROM:+0000
TZOFFSETTO:+0000
END:STANDARD
END:VTIMEZONE
BEGIN:VEVENT
UID:69ebb3797b8b2
DTSTAMP:20260424T181625Z
SUMMARY:Remode: The Music of Depeche Mode
DTSTART:20260918T180000Z
DTEND:20260918T180000Z
END:VEVENT
END:VCALENDAR