BEGIN:VCALENDAR
VERSION:2.0
PRODID:spatie/icalendar-generator
BEGIN:VTIMEZONE
TZID:UTC
BEGIN:STANDARD
DTSTART:20250728T181725
TZOFFSETFROM:+0000
TZOFFSETTO:+0000
END:STANDARD
END:VTIMEZONE
BEGIN:VEVENT
UID:69ebb3b542141
DTSTAMP:20260424T181725Z
SUMMARY:Die besten Comedians Deutschlands LIVE
DTSTART:20271209T190000Z
DTEND:20271209T190000Z
END:VEVENT
END:VCALENDAR