BEGIN:VCALENDAR
VERSION:2.0
PRODID:spatie/icalendar-generator
BEGIN:VTIMEZONE
TZID:UTC
BEGIN:STANDARD
DTSTART:20250728T200051
TZOFFSETFROM:+0000
TZOFFSETTO:+0000
END:STANDARD
END:VTIMEZONE
BEGIN:VEVENT
UID:69ebcbf364a26
DTSTAMP:20260424T200051Z
SUMMARY:Mirja Regensburg - ALLES WIRD GUT!
DTSTART:20270401T180000Z
DTEND:20270401T180000Z
END:VEVENT
END:VCALENDAR