BEGIN:VCALENDAR
VERSION:2.0
PRODID:spatie/icalendar-generator
BEGIN:VTIMEZONE
TZID:UTC
BEGIN:STANDARD
DTSTART:20250728T200052
TZOFFSETFROM:+0000
TZOFFSETTO:+0000
END:STANDARD
END:VTIMEZONE
BEGIN:VEVENT
UID:69ebcbf46425b
DTSTAMP:20260424T200052Z
SUMMARY:DE DING & DE ANNER - Die Podcast Show
DTSTART:20261003T180000Z
DTEND:20261003T180000Z
END:VEVENT
END:VCALENDAR