BEGIN:VCALENDAR
VERSION:2.0
PRODID:spatie/icalendar-generator
BEGIN:VTIMEZONE
TZID:UTC
BEGIN:STANDARD
DTSTART:20250728T200148
TZOFFSETFROM:+0000
TZOFFSETTO:+0000
END:STANDARD
END:VTIMEZONE
BEGIN:VEVENT
UID:69ebcc2cf3efb
DTSTAMP:20260424T200148Z
SUMMARY:Sascha Kleinophorst - Ein solofreier Soloabend
DTSTART:20260503T170000Z
DTEND:20260503T170000Z
END:VEVENT
END:VCALENDAR