BEGIN:VCALENDAR
VERSION:2.0
PRODID:spatie/icalendar-generator
BEGIN:VTIMEZONE
TZID:UTC
BEGIN:STANDARD
DTSTART:20250728T200146
TZOFFSETFROM:+0000
TZOFFSETTO:+0000
END:STANDARD
END:VTIMEZONE
BEGIN:VEVENT
UID:69ebcc2ab373f
DTSTAMP:20260424T200146Z
SUMMARY:THE SWEET - Rockin` for the eternity – Show 2026
DTSTART:20261018T170000Z
DTEND:20261018T170000Z
END:VEVENT
END:VCALENDAR