BEGIN:VCALENDAR
VERSION:2.0
PRODID:spatie/icalendar-generator
BEGIN:VTIMEZONE
TZID:UTC
BEGIN:STANDARD
DTSTART:20250728T200118
TZOFFSETFROM:+0000
TZOFFSETTO:+0000
END:STANDARD
END:VTIMEZONE
BEGIN:VEVENT
UID:69ebcc0e6ba25
DTSTAMP:20260424T200118Z
SUMMARY:Salut Salon - heimat
DTSTART:20260516T180000Z
DTEND:20260516T180000Z
END:VEVENT
END:VCALENDAR