BEGIN:VCALENDAR
VERSION:2.0
PRODID:spatie/icalendar-generator
BEGIN:VTIMEZONE
TZID:UTC
BEGIN:STANDARD
DTSTART:20250728T200147
TZOFFSETFROM:+0000
TZOFFSETTO:+0000
END:STANDARD
END:VTIMEZONE
BEGIN:VEVENT
UID:69ebcc2be9306
DTSTAMP:20260424T200147Z
SUMMARY:Chako Habekost – Es kummt wie's kummt
DTSTART:20260724T180000Z
DTEND:20260724T180000Z
END:VEVENT
END:VCALENDAR