BEGIN:VCALENDAR
VERSION:2.0
PRODID:spatie/icalendar-generator
BEGIN:VTIMEZONE
TZID:UTC
BEGIN:STANDARD
DTSTART:20250728T200147
TZOFFSETFROM:+0000
TZOFFSETTO:+0000
END:STANDARD
END:VTIMEZONE
BEGIN:VEVENT
UID:69ebcc2b882d3
DTSTAMP:20260424T200147Z
SUMMARY:Öffentliche Führung durch die NS-Ausstellung
DTSTART:20260607T140000Z
DTEND:20260607T150000Z
END:VEVENT
END:VCALENDAR