BEGIN:VCALENDAR
VERSION:2.0
PRODID:spatie/icalendar-generator
BEGIN:VTIMEZONE
TZID:UTC
BEGIN:STANDARD
DTSTART:20250728T200051
TZOFFSETFROM:+0000
TZOFFSETTO:+0000
END:STANDARD
END:VTIMEZONE
BEGIN:VEVENT
UID:69ebcbf3e4117
DTSTAMP:20260424T200051Z
SUMMARY:Zeltfestival Rhein-Neckar: Alvaro Soler - El Camino Tour
DTSTART:20260614T170000Z
DTEND:20260614T170000Z
END:VEVENT
END:VCALENDAR