BEGIN:VCALENDAR
VERSION:2.0
PRODID:spatie/icalendar-generator
BEGIN:VTIMEZONE
TZID:UTC
BEGIN:STANDARD
DTSTART:20250728T200118
TZOFFSETFROM:+0000
TZOFFSETTO:+0000
END:STANDARD
END:VTIMEZONE
BEGIN:VEVENT
UID:69ebcc0ee72ae
DTSTAMP:20260424T200118Z
SUMMARY:ONKEL fISCH: Hoffnung - ein Serviervorschlag
DTSTART:20260425T180000Z
DTEND:20260425T180000Z
END:VEVENT
END:VCALENDAR