BEGIN:VCALENDAR
VERSION:2.0
PRODID:spatie/icalendar-generator
BEGIN:VTIMEZONE
TZID:UTC
BEGIN:STANDARD
DTSTART:20250728T212626
TZOFFSETFROM:+0000
TZOFFSETTO:+0000
END:STANDARD
END:VTIMEZONE
BEGIN:VEVENT
UID:69ebe00283f92
DTSTAMP:20260424T212626Z
SUMMARY:Zeltfestival Rhein-Neckar: Anastacia - #NTK26 Summer Tour
DTSTART:20260623T170000Z
DTEND:20260623T170000Z
END:VEVENT
END:VCALENDAR