BEGIN:VCALENDAR
VERSION:2.0
PRODID:spatie/icalendar-generator
BEGIN:VTIMEZONE
TZID:UTC
BEGIN:STANDARD
DTSTART:20250728T212656
TZOFFSETFROM:+0000
TZOFFSETTO:+0000
END:STANDARD
END:VTIMEZONE
BEGIN:VEVENT
UID:69ebe020c43e4
DTSTAMP:20260424T212656Z
SUMMARY:Meet & Read - der Literaturkreis im Quadrat
DTSTART:20260602T153000Z
DTEND:20260602T153000Z
END:VEVENT
END:VCALENDAR