BEGIN:VCALENDAR
VERSION:2.0
PRODID:spatie/icalendar-generator
BEGIN:VTIMEZONE
TZID:UTC
BEGIN:STANDARD
DTSTART:20250728T212705
TZOFFSETFROM:+0000
TZOFFSETTO:+0000
END:STANDARD
END:VTIMEZONE
BEGIN:VEVENT
UID:69ebe029af0e2
DTSTAMP:20260424T212705Z
SUMMARY:Gesellschaftliche Vielfalt in der Archivpädagogik – Quellen\, Zi
 elgruppen und Angebote
DTSTART:20260620T080000Z
DTEND:20260620T130000Z
END:VEVENT
END:VCALENDAR