BEGIN:VCALENDAR
VERSION:2.0
PRODID:spatie/icalendar-generator
BEGIN:VTIMEZONE
TZID:UTC
BEGIN:STANDARD
DTSTART:20250728T212658
TZOFFSETFROM:+0000
TZOFFSETTO:+0000
END:STANDARD
END:VTIMEZONE
BEGIN:VEVENT
UID:69ebe02248fd6
DTSTAMP:20260424T212658Z
SUMMARY:True Crime in Mannheim
DTSTART:20260614T090000Z
DTEND:20260614T110000Z
END:VEVENT
END:VCALENDAR