BEGIN:VCALENDAR
VERSION:2.0
PRODID:spatie/icalendar-generator
BEGIN:VTIMEZONE
TZID:UTC
BEGIN:STANDARD
DTSTART:20250728T225917
TZOFFSETFROM:+0000
TZOFFSETTO:+0000
END:STANDARD
END:VTIMEZONE
BEGIN:VEVENT
UID:69ebf5c5dc1eb
DTSTAMP:20260424T225917Z
SUMMARY:Menschen aus Baden und Württemberg in der Résistance in Frankreic
 h 1940-1945
DTSTART:20260603T160000Z
DTEND:20260603T180000Z
END:VEVENT
END:VCALENDAR