BEGIN:VCALENDAR
VERSION:2.0
PRODID:spatie/icalendar-generator
BEGIN:VTIMEZONE
TZID:UTC
BEGIN:STANDARD
DTSTART:20250728T225930
TZOFFSETFROM:+0000
TZOFFSETTO:+0000
END:STANDARD
END:VTIMEZONE
BEGIN:VEVENT
UID:69ebf5d2d68e6
DTSTAMP:20260424T225930Z
SUMMARY:Pupo
DTSTART:20260524T160000Z
DTEND:20260524T160000Z
END:VEVENT
END:VCALENDAR