BEGIN:VCALENDAR
VERSION:2.0
PRODID:spatie/icalendar-generator
BEGIN:VTIMEZONE
TZID:UTC
BEGIN:STANDARD
DTSTART:20250725T134753
TZOFFSETFROM:+0000
TZOFFSETTO:+0000
END:STANDARD
END:VTIMEZONE
BEGIN:VEVENT
UID:69e7800939fd2
DTSTAMP:20260421T134753Z
SUMMARY:Rebel Monster: Best of Volbeat
DTSTART:20260529T180000Z
DTEND:20260529T180000Z
END:VEVENT
END:VCALENDAR