BEGIN:VCALENDAR
VERSION:2.0
PRODID:spatie/icalendar-generator
BEGIN:VTIMEZONE
TZID:UTC
BEGIN:STANDARD
DTSTART:20250723T165550
TZOFFSETFROM:+0000
TZOFFSETTO:+0000
END:STANDARD
END:VTIMEZONE
BEGIN:VEVENT
UID:69e509167a2c4
DTSTAMP:20260419T165550Z
SUMMARY:Edith - Eine Hymne an die Liebe
DTSTART:20260510T140000Z
DTEND:20260510T140000Z
END:VEVENT
END:VCALENDAR