BEGIN:VCALENDAR
VERSION:2.0
PRODID:spatie/icalendar-generator
BEGIN:VTIMEZONE
TZID:UTC
BEGIN:STANDARD
DTSTART:20250729T140558
TZOFFSETFROM:+0000
TZOFFSETTO:+0000
END:STANDARD
END:VTIMEZONE
BEGIN:VEVENT
UID:69ecca462c030
DTSTAMP:20260425T140558Z
SUMMARY:Die Monnemer Mauer
DTSTART:20261009T180000Z
DTEND:20261009T180000Z
END:VEVENT
END:VCALENDAR