BEGIN:VCALENDAR
VERSION:2.0
PRODID:spatie/icalendar-generator
BEGIN:VTIMEZONE
TZID:UTC
BEGIN:STANDARD
DTSTART:20250729T140501
TZOFFSETFROM:+0000
TZOFFSETTO:+0000
END:STANDARD
END:VTIMEZONE
BEGIN:VEVENT
UID:69ecca0d6b3a0
DTSTAMP:20260425T140501Z
SUMMARY:Premiere mit der Ex
DTSTART:20260918T180000Z
DTEND:20260918T180000Z
END:VEVENT
END:VCALENDAR