BEGIN:VCALENDAR
VERSION:2.0
PRODID:spatie/icalendar-generator
BEGIN:VTIMEZONE
TZID:UTC
BEGIN:STANDARD
DTSTART:20250729T140500
TZOFFSETFROM:+0000
TZOFFSETTO:+0000
END:STANDARD
END:VTIMEZONE
BEGIN:VEVENT
UID:69ecca0ce84db
DTSTAMP:20260425T140500Z
SUMMARY:6K UNITED!
DTSTART:20260622T170000Z
DTEND:20260622T170000Z
END:VEVENT
END:VCALENDAR