BEGIN:VCALENDAR
VERSION:2.0
PRODID:spatie/icalendar-generator
BEGIN:VTIMEZONE
TZID:UTC
BEGIN:STANDARD
DTSTART:20250729T140547
TZOFFSETFROM:+0000
TZOFFSETTO:+0000
END:STANDARD
END:VTIMEZONE
BEGIN:VEVENT
UID:69ecca3b39d7b
DTSTAMP:20260425T140547Z
SUMMARY:Brandheiss - Gelöscht wird später!
DTSTART:20260920T160000Z
DTEND:20260920T160000Z
END:VEVENT
END:VCALENDAR