BEGIN:VCALENDAR
VERSION:2.0
PRODID:spatie/icalendar-generator
BEGIN:VTIMEZONE
TZID:UTC
BEGIN:STANDARD
DTSTART:20250729T140557
TZOFFSETFROM:+0000
TZOFFSETTO:+0000
END:STANDARD
END:VTIMEZONE
BEGIN:VEVENT
UID:69ecca452d96c
DTSTAMP:20260425T140557Z
SUMMARY:Ringside Series 2026 - Night of the Heavyweights
DTSTART:20260515T160000Z
DTEND:20260515T160000Z
END:VEVENT
END:VCALENDAR