BEGIN:VCALENDAR
VERSION:2.0
PRODID:spatie/icalendar-generator
BEGIN:VTIMEZONE
TZID:UTC
BEGIN:STANDARD
DTSTART:20250729T141401
TZOFFSETFROM:+0000
TZOFFSETTO:+0000
END:STANDARD
END:VTIMEZONE
BEGIN:VEVENT
UID:69eccc2939b00
DTSTAMP:20260425T141401Z
SUMMARY:die PRINZEN: Tschüssi\, macht's gut! - die Abschiedstournee
DTSTART:20271114T170000Z
DTEND:20271114T170000Z
END:VEVENT
END:VCALENDAR