BEGIN:VCALENDAR
VERSION:2.0
PRODID:spatie/icalendar-generator
BEGIN:VTIMEZONE
TZID:UTC
BEGIN:STANDARD
DTSTART:20250729T141401
TZOFFSETFROM:+0000
TZOFFSETTO:+0000
END:STANDARD
END:VTIMEZONE
BEGIN:VEVENT
UID:69eccc2972daf
DTSTAMP:20260425T141401Z
SUMMARY:LANSDOWNE
DTSTART:20260627T180000Z
DTEND:20260627T180000Z
END:VEVENT
END:VCALENDAR