BEGIN:VCALENDAR
VERSION:2.0
PRODID:spatie/icalendar-generator
BEGIN:VTIMEZONE
TZID:UTC
BEGIN:STANDARD
DTSTART:20250729T140500
TZOFFSETFROM:+0000
TZOFFSETTO:+0000
END:STANDARD
END:VTIMEZONE
BEGIN:VEVENT
UID:69ecca0cbe966
DTSTAMP:20260425T140500Z
SUMMARY:Roland Kaiser - Unser Moment
DTSTART:20270429T173000Z
DTEND:20270429T173000Z
END:VEVENT
END:VCALENDAR