BEGIN:VCALENDAR
VERSION:2.0
PRODID:spatie/icalendar-generator
BEGIN:VTIMEZONE
TZID:UTC
BEGIN:STANDARD
DTSTART:20250729T140501
TZOFFSETFROM:+0000
TZOFFSETTO:+0000
END:STANDARD
END:VTIMEZONE
BEGIN:VEVENT
UID:69ecca0de9967
DTSTAMP:20260425T140501Z
SUMMARY:Holiday on Ice - Neue Show
DTSTART:20270206T153000Z
DTEND:20270206T153000Z
END:VEVENT
END:VCALENDAR