BEGIN:VCALENDAR
VERSION:2.0
PRODID:spatie/icalendar-generator
BEGIN:VTIMEZONE
TZID:UTC
BEGIN:STANDARD
DTSTART:20250729T141402
TZOFFSETFROM:+0000
TZOFFSETTO:+0000
END:STANDARD
END:VTIMEZONE
BEGIN:VEVENT
UID:69eccc2ae124f
DTSTAMP:20260425T141402Z
SUMMARY:Holiday on Ice - Neue Show
DTSTART:20270205T183000Z
DTEND:20270205T183000Z
END:VEVENT
END:VCALENDAR