BEGIN:VCALENDAR
VERSION:2.0
PRODID:spatie/icalendar-generator
BEGIN:VTIMEZONE
TZID:UTC
BEGIN:STANDARD
DTSTART:20250729T142217
TZOFFSETFROM:+0000
TZOFFSETTO:+0000
END:STANDARD
END:VTIMEZONE
BEGIN:VEVENT
UID:69ecce193601b
DTSTAMP:20260425T142217Z
SUMMARY:Die Eiskönigin (Musik-Show auf Eis)
DTSTART:20270411T160000Z
DTEND:20270411T160000Z
END:VEVENT
END:VCALENDAR