BEGIN:VCALENDAR
VERSION:2.0
PRODID:spatie/icalendar-generator
BEGIN:VTIMEZONE
TZID:UTC
BEGIN:STANDARD
DTSTART:20250729T140502
TZOFFSETFROM:+0000
TZOFFSETTO:+0000
END:STANDARD
END:VTIMEZONE
BEGIN:VEVENT
UID:69ecca0e6c91e
DTSTAMP:20260425T140502Z
SUMMARY:Die Feisten: Familienfest
DTSTART:20270505T180000Z
DTEND:20270505T180000Z
END:VEVENT
END:VCALENDAR