BEGIN:VCALENDAR
VERSION:2.0
PRODID:spatie/icalendar-generator
BEGIN:VTIMEZONE
TZID:UTC
BEGIN:STANDARD
DTSTART:20250729T140557
TZOFFSETFROM:+0000
TZOFFSETTO:+0000
END:STANDARD
END:VTIMEZONE
BEGIN:VEVENT
UID:69ecca459f72f
DTSTAMP:20260425T140557Z
SUMMARY:Cris Cosmo
DTSTART:20261121T190000Z
DTEND:20261121T220000Z
END:VEVENT
END:VCALENDAR