BEGIN:VCALENDAR
VERSION:2.0
PRODID:spatie/icalendar-generator
BEGIN:VTIMEZONE
TZID:UTC
BEGIN:STANDARD
DTSTART:20250729T141402
TZOFFSETFROM:+0000
TZOFFSETTO:+0000
END:STANDARD
END:VTIMEZONE
BEGIN:VEVENT
UID:69eccc2a661e4
DTSTAMP:20260425T141402Z
SUMMARY:Die Monnemer Mauer
DTSTART:20261004T160000Z
DTEND:20261004T160000Z
END:VEVENT
END:VCALENDAR