BEGIN:VCALENDAR
VERSION:2.0
PRODID:spatie/icalendar-generator
BEGIN:VTIMEZONE
TZID:UTC
BEGIN:STANDARD
DTSTART:20250729T134114
TZOFFSETFROM:+0000
TZOFFSETTO:+0000
END:STANDARD
END:VTIMEZONE
BEGIN:VEVENT
UID:69ecc47a09cea
DTSTAMP:20260425T134114Z
SUMMARY:Musik zum Anfassen: Instrumente ausprobieren
DTSTART:20260704T090000Z
DTEND:20260704T110000Z
END:VEVENT
END:VCALENDAR