BEGIN:VCALENDAR
VERSION:2.0
PRODID:spatie/icalendar-generator
BEGIN:VTIMEZONE
TZID:UTC
BEGIN:STANDARD
DTSTART:20250729T140546
TZOFFSETFROM:+0000
TZOFFSETTO:+0000
END:STANDARD
END:VTIMEZONE
BEGIN:VEVENT
UID:69ecca3a42525
DTSTAMP:20260425T140546Z
SUMMARY:Cleopard2000
DTSTART:20260522T210000Z
DTEND:20260523T030000Z
END:VEVENT
END:VCALENDAR