BEGIN:VCALENDAR
VERSION:2.0
PRODID:spatie/icalendar-generator
BEGIN:VTIMEZONE
TZID:UTC
BEGIN:STANDARD
DTSTART:20250728T060045
TZOFFSETFROM:+0000
TZOFFSETTO:+0000
END:STANDARD
END:VTIMEZONE
BEGIN:VEVENT
UID:69eb070da78bb
DTSTAMP:20260424T060045Z
SUMMARY:\"Mieter\" Ein Stück von Paco Gámez
DTSTART:20260613T180000Z
DTEND:20260613T180000Z
END:VEVENT
END:VCALENDAR