BEGIN:VCALENDAR
VERSION:2.0
PRODID:spatie/icalendar-generator
BEGIN:VTIMEZONE
TZID:UTC
BEGIN:STANDARD
DTSTART:20250728T144921
TZOFFSETFROM:+0000
TZOFFSETTO:+0000
END:STANDARD
END:VTIMEZONE
BEGIN:VEVENT
UID:69eb82f15b6d0
DTSTAMP:20260424T144921Z
SUMMARY:\"Mieter\" Ein Stück von Paco Gámez
DTSTART:20260612T180000Z
DTEND:20260612T180000Z
END:VEVENT
END:VCALENDAR