BEGIN:VCALENDAR
VERSION:2.0
PRODID:spatie/icalendar-generator
BEGIN:VTIMEZONE
TZID:UTC
BEGIN:STANDARD
DTSTART:20250728T144957
TZOFFSETFROM:+0000
TZOFFSETTO:+0000
END:STANDARD
END:VTIMEZONE
BEGIN:VEVENT
UID:69eb83151c2d4
DTSTAMP:20260424T144957Z
SUMMARY:Last Park Standing
DTSTART:20260627T180000Z
DTEND:20260627T180000Z
END:VEVENT
END:VCALENDAR