BEGIN:VCALENDAR
VERSION:2.0
PRODID:spatie/icalendar-generator
BEGIN:VTIMEZONE
TZID:UTC
BEGIN:STANDARD
DTSTART:20250728T144921
TZOFFSETFROM:+0000
TZOFFSETTO:+0000
END:STANDARD
END:VTIMEZONE
BEGIN:VEVENT
UID:69eb82f1493d8
DTSTAMP:20260424T144921Z
SUMMARY:Salon der Ratlosigkeit
DTSTART:20260715T160000Z
DTEND:20260715T180000Z
END:VEVENT
END:VCALENDAR