BEGIN:VCALENDAR
VERSION:2.0
PRODID:spatie/icalendar-generator
BEGIN:VTIMEZONE
TZID:UTC
BEGIN:STANDARD
DTSTART:20250728T144558
TZOFFSETFROM:+0000
TZOFFSETTO:+0000
END:STANDARD
END:VTIMEZONE
BEGIN:VEVENT
UID:69eb82266ac4d
DTSTAMP:20260424T144558Z
SUMMARY:Salon der Ratlosigkeit
DTSTART:20260701T160000Z
DTEND:20260701T180000Z
END:VEVENT
END:VCALENDAR