BEGIN:VCALENDAR
VERSION:2.0
PRODID:spatie/icalendar-generator
BEGIN:VTIMEZONE
TZID:UTC
BEGIN:STANDARD
DTSTART:20250728T144001
TZOFFSETFROM:+0000
TZOFFSETTO:+0000
END:STANDARD
END:VTIMEZONE
BEGIN:VEVENT
UID:69eb80c174895
DTSTAMP:20260424T144001Z
SUMMARY:Salon der Ratlosigkeit
DTSTART:20260603T160000Z
DTEND:20260603T180000Z
END:VEVENT
END:VCALENDAR